BEGIN:VCALENDAR
VERSION:2.0
PRODID:-//Association of Financial Advisers - ECPv4.9.14//NONSGML v1.0//EN
CALSCALE:GREGORIAN
METHOD:PUBLISH
X-WR-CALNAME:Association of Financial Advisers
X-ORIGINAL-URL:https://www.afa.asn.au
X-WR-CALDESC:Events for Association of Financial Advisers
BEGIN:VTIMEZONE
TZID:Australia/Sydney
BEGIN:STANDARD
TZOFFSETFROM:+1100
TZOFFSETTO:+1000
TZNAME:AEST
DTSTART:20200404T160000
END:STANDARD
BEGIN:DAYLIGHT
TZOFFSETFROM:+1000
TZOFFSETTO:+1100
TZNAME:AEDT
DTSTART:20201003T160000
END:DAYLIGHT
END:VTIMEZONE
BEGIN:VEVENT
DTSTART;TZID=Australia/Sydney:20200217T080000
DTEND;TZID=Australia/Sydney:20200227T120000
DTSTAMP:20200226T130750
CREATED:20200129T020007Z
LAST-MODIFIED:20200226T130008Z
UID:11389-1581926400-1582804800@www.afa.asn.au
SUMMARY:AFA United Roadshow 2020
DESCRIPTION:Coming together as the AFA community to connect and share is what we do best. To help ensure you and your business are on the right track for 2020\, we’ll bring you the very latest in policy\, education and professionalism. \nYou’ll be up to speed on what’s new in pre and post retirement strategies with our key sponsor Challenger. And you’ll takeaway practical\, actionable tips and tools from award-winning advisers Simone Du Chesne & Chris Carlin\, to grow your business and better manage your well-being. \nSo\, take some time out to join us\, be inspired by other advice professionals and united\, we’ll help achieve great advice for more Australians. \n  \nHere’s your itinerary: \n\n\nOn the right track for 2020: the latest in policy & professionalism \n\n\nOur two Phil’s outline the key policy\, education and professionalism updates\, including FASEA Code of Ethics\, that you need to ensure your business is prepared for 2020 and beyond. You’ll also hear the latest on AFA strategy\, community news and member benefits. \n\n\n\n\nUp to speed: the latest pre & post retirement strategies \n\n\nLots has changed in our regulatory world so Andrew Lowe\, Challenger’s Head of Technical Services will get you up to speed on the latest pre and post retirement strategies to maximise outcomes for your clients. \n\n\n\n\nFutureproof your business to thrive \n\n\nSimone Du Chesne\, AFA 2019 Adviser of the Year shares her tips on diversifying a mature advice practice through profitable joint ventures with accounting firms. You’ll also learn how a clear and focused people and business strategy can change the growth trajectory of your business\, for success today and well into the future. \n\n\n\n\nI’m an overnight success – a mental health journey \n\n\nChris Carlin\, AFA 2019 Rising Star of the Year\, is an overnight success however overcoming significant mental health challenges has played a key part. You’ll take away great insights and tools that will help you get perspective to manage your well-being to run a better-balanced business and an even better balanced you. \n\n\n\n\nGive back to make a difference \n\n\nOlivia Sarah-Le Lacheur\, AFA Foundation National Chair\, introduces your local charity seeking your support to make a difference to those in need. \n\n\n\n\n ​To find out more and regsiter – click here \nCost \nMember – $50 \nNon-member $150 \nWe look forward to seeing you! \n
URL:https://www.afa.asn.au/event/afa-united-roadshow-2020
ATTACH;FMTTYPE=image/jpeg:https://www.afa.asn.au/wp-content/uploads/000720_Roadshow-TPM-web-banner_1440x220_Speakers-1-1.jpg
END:VEVENT
END:VCALENDAR